BEGIN:VCALENDAR
VERSION:2.0
PRODID:-//Tukios.com/
BEGIN:VEVENT
UID:b8816593-0884-4bb2-b018-bf3d9c9b89fb@www.odonnellfuneralservice.com
DTSTAMP:20260422T220552Z
DTSTART:20260430T220000Z
DTEND:20260501T000000Z
SUMMARY:Visitation
DESCRIPTION:
URL:https://www.odonnellfuneralservice.com/obituary/aileen-waite
LOCATION: 167 Maple St  Danvers MA 01923
GEO:42.5709259;-70.940903
END:VEVENT
END:VCALENDAR