BEGIN:VCALENDAR
VERSION:2.0
PRODID:-//Tukios.com/
BEGIN:VEVENT
UID:95847a8b-de79-41fa-a6ce-9afff4421ff1@www.odonnellfuneralservice.com
DTSTAMP:20260422T220801Z
DTSTART:20260501T161500Z
DTEND:20260501T170000Z
SUMMARY:Interment
DESCRIPTION:
URL:https://www.odonnellfuneralservice.com/obituary/aileen-waite
LOCATION: 8 Haverhill Road  Topsfield MA 01983
GEO:42.6501189;-70.9521525
END:VEVENT
END:VCALENDAR