BEGIN:VCALENDAR
VERSION:2.0
PRODID:-//Tukios.com/
BEGIN:VEVENT
UID:5ee59d56-b913-4330-b8b4-d4a2483f2210@www.odonnellfuneralservice.com
DTSTAMP:20260422T220419Z
DTSTART:20260501T150000Z
DTEND:20260501T160000Z
SUMMARY:Mass
DESCRIPTION:
URL:https://www.odonnellfuneralservice.com/obituary/aileen-waite
LOCATION: 124 River Road  Topsfield MA 01983
GEO:42.6333465;-70.9673614
END:VEVENT
END:VCALENDAR