BEGIN:VCALENDAR
VERSION:2.0
PRODID:-//Tukios.com/
BEGIN:VEVENT
UID:2e0eab26-9e27-48d7-9348-ea4f00aea5a2@www.odonnellfuneralservice.com
DTSTAMP:20260425T231257Z
DTSTART:20260428T200000Z
DTEND:20260428T230000Z
SUMMARY:Visitation
DESCRIPTION:
URL:https://www.odonnellfuneralservice.com/obituary/conrad-correnti
LOCATION: 84 Washington Square  Salem MA 01970
GEO:42.5246077;-70.8877708
END:VEVENT
END:VCALENDAR