BEGIN:VCALENDAR
VERSION:2.0
PRODID:-//Tukios.com/
BEGIN:VEVENT
UID:6da451b2-1ced-4b93-9f0f-b2792b4d26b8@www.odonnellfuneralservice.com
DTSTAMP:20260425T231410Z
DTSTART:20260429T150000Z
DTEND:20260429T160000Z
SUMMARY:Funeral Mass
DESCRIPTION:
URL:https://www.odonnellfuneralservice.com/obituary/conrad-correnti
LOCATION: Hawthorne Boulevard  Salem MA 01970
GEO:42.5213944;-70.8900884
END:VEVENT
END:VCALENDAR