BEGIN:VCALENDAR
VERSION:2.0
PRODID:-//Tukios.com/
BEGIN:VEVENT
UID:bf10621c-fdd6-4f16-b96d-1e14db6d9db7@www.odonnellfuneralservice.com
DTSTAMP:20260425T231257Z
DTSTART:20260429T163000Z
DTEND:20260429T170000Z
SUMMARY:Burial
DESCRIPTION:
URL:https://www.odonnellfuneralservice.com/obituary/conrad-correnti
LOCATION:  North Street  Salem MA 01970
GEO:42.532682;-70.9124136
END:VEVENT
END:VCALENDAR