BEGIN:VCALENDAR
VERSION:2.0
PRODID:-//Tukios.com/
BEGIN:VEVENT
UID:f39114d9-3e78-4455-bab8-c89305f94552@www.odonnellfuneralservice.com
DTSTAMP:20260422T220551Z
DTSTART:20260503T140000Z
DTEND:20260503T160000Z
SUMMARY:Visitation
DESCRIPTION:
URL:https://www.odonnellfuneralservice.com/obituary/gloria-hayes
LOCATION: 84 Washington Square  Salem MA 01970
GEO:42.5246077;-70.8877708
END:VEVENT
END:VCALENDAR