BEGIN:VCALENDAR
VERSION:2.0
PRODID:-//Tukios.com/
BEGIN:VEVENT
UID:13b930bd-6751-4a66-b5c8-57bffde6ba83@www.odonnellfuneralservice.com
DTSTAMP:20260422T220144Z
DTSTART:20260503T160000Z
DTEND:20260503T170000Z
SUMMARY:Funeral Service
DESCRIPTION:
URL:https://www.odonnellfuneralservice.com/obituary/gloria-hayes
LOCATION: 84 Washington Square  Salem MA 01970
GEO:42.5246077;-70.8877708
END:VEVENT
END:VCALENDAR